BEGIN:VCALENDAR
VERSION:2.0
PRODID:-//Christ Fellowship - ECPv6.15.20//NONSGML v1.0//EN
CALSCALE:GREGORIAN
METHOD:PUBLISH
X-WR-CALNAME:Christ Fellowship
X-ORIGINAL-URL:https://christfellowship.me
X-WR-CALDESC:Events for Christ Fellowship
REFRESH-INTERVAL;VALUE=DURATION:PT1H
X-Robots-Tag:noindex
X-PUBLISHED-TTL:PT1H
BEGIN:VTIMEZONE
TZID:America/New_York
BEGIN:DAYLIGHT
TZOFFSETFROM:-0500
TZOFFSETTO:-0400
TZNAME:EDT
DTSTART:20250309T070000
END:DAYLIGHT
BEGIN:STANDARD
TZOFFSETFROM:-0400
TZOFFSETTO:-0500
TZNAME:EST
DTSTART:20251102T060000
END:STANDARD
BEGIN:DAYLIGHT
TZOFFSETFROM:-0500
TZOFFSETTO:-0400
TZNAME:EDT
DTSTART:20260308T070000
END:DAYLIGHT
BEGIN:STANDARD
TZOFFSETFROM:-0400
TZOFFSETTO:-0500
TZNAME:EST
DTSTART:20261101T060000
END:STANDARD
BEGIN:DAYLIGHT
TZOFFSETFROM:-0500
TZOFFSETTO:-0400
TZNAME:EDT
DTSTART:20270314T070000
END:DAYLIGHT
BEGIN:STANDARD
TZOFFSETFROM:-0400
TZOFFSETTO:-0500
TZNAME:EST
DTSTART:20271107T060000
END:STANDARD
END:VTIMEZONE
BEGIN:VEVENT
DTSTART;TZID=America/New_York:20260514T060000
DTEND;TZID=America/New_York:20260514T083000
DTSTAMP:20260424T213438
CREATED:20260421T172119Z
LAST-MODIFIED:20260421T172119Z
UID:10007921-1778738400-1778747400@christfellowship.me
SUMMARY:ReStory Business /// May 2026
DESCRIPTION:[vc_row type=”in_container” full_screen_row_position=”middle” column_margin=”default” column_direction=”default” column_direction_tablet=”default” column_direction_phone=”default” scene_position=”center” text_color=”dark” text_align=”left” row_border_radius=”none” row_border_radius_applies=”bg” row_position_desktop=”default” row_position_tablet=”inherit” row_position_phone=”inherit” overflow=”visible” overlay_strength=”0.3″ gradient_direction=”left_to_right” shape_divider_position=”bottom” bg_image_animation=”none”][vc_column column_padding=”no-extra-padding” column_padding_tablet=”inherit” column_padding_phone=”inherit” column_padding_position=”all” flex_gap_desktop=”10px” column_element_direction_desktop=”default” column_element_spacing=”default” desktop_text_alignment=”default” tablet_text_alignment=”default” phone_text_alignment=”default” background_color_opacity=”1″ background_hover_color_opacity=”1″ column_backdrop_filter=”none” column_shadow=”none” column_border_radius=”none” column_link_target=”_self” column_position=”default” gradient_direction=”left_to_right” overlay_strength=”0.3″ width=”1/1″ tablet_width_inherit=”default” animation_type=”default” bg_image_animation=”none” border_type=”simple” column_border_width=”none” column_border_style=”solid”][vc_column_text css=”” text_direction=”default”]CF is planning to bring ReStory Business (formerly known as Business Forum) to our Tri-Cities community. Through quarterly breakfast meetings\, ReStory Business creates a place where everyone from a top executive with years of experience to a young employee just beginning can find a sense of belonging and relationship. It also connects people to a Kingdom purpose and equips them with specific\, practical resources to help work through all kinds of marketplace issues. This is a place where businesses and the Church can link arms. Our greatest hope in hosting these quarterly events is that businessmen and businesswomen will begin to see the Church as an empowering part of the community who wants to partner with them to give insight and support. \n\nThursday\, May 14th\n6:00am – Breakfast Available\n6:30am-8:30am – ReStory Business Workshop\n\n[/vc_column_text][/vc_column][/vc_row][vc_row type=”in_container” full_screen_row_position=”middle” column_margin=”default” column_direction=”default” column_direction_tablet=”default” column_direction_phone=”default” scene_position=”center” text_color=”dark” text_align=”left” row_border_radius=”none” row_border_radius_applies=”bg” row_position_desktop=”default” row_position_tablet=”inherit” row_position_phone=”inherit” overflow=”visible” overlay_strength=”0.3″ gradient_direction=”left_to_right” shape_divider_position=”bottom” bg_image_animation=”none”][vc_column column_padding=”no-extra-padding” column_padding_tablet=”inherit” column_padding_phone=”inherit” column_padding_position=”all” flex_gap_desktop=”10px” column_element_direction_desktop=”default” column_element_spacing=”default” desktop_text_alignment=”default” tablet_text_alignment=”default” phone_text_alignment=”default” background_color_opacity=”1″ background_hover_color_opacity=”1″ column_backdrop_filter=”none” column_shadow=”none” column_border_radius=”none” column_link_target=”_self” column_position=”default” gradient_direction=”left_to_right” overlay_strength=”0.3″ width=”1/1″ tablet_width_inherit=”default” animation_type=”default” bg_image_animation=”none” border_type=”simple” column_border_width=”none” column_border_style=”solid”]\n\n                \n                        URLThis field is for validation purposes and should be left unchanged.Name(Required)\n                            \n                            \n                                                    \n                                                    First\n                                                \n                            \n                            \n                                                    \n                                                    Last\n                                                \n                            \n                        Phone(Required)Email(Required)\n                            \n                        Where Are You Employed?(Required)What is Your Position There?(Required)How Many People are in Your Company?(Required)Are You Inviting Someone You Want to be Seated With? If Yes\, Please List Their Name(s) Below:How Did You Hear About ReStory Business?(Required)CAPTCHA\n          \n            \n            \n            \n            \n            \n            \n            \n            \n            \n            \n            \n            \n            \n        \n                        \n                        \n		                \n		                \n[/vc_column][/vc_row]
URL:https://christfellowship.me/event/restory-business-may-2026/
LOCATION:Christ Fellowship Church\, 260 Victory Lane\, Kingsport\, TN\, 37664\, United States
CATEGORIES:Men @ CF,Women @ CF,Outreach,Young Adults Ministry,Equip,Small Groups
ATTACH;FMTTYPE=image/png:https://christfellowship.me/wp-content/uploads/2026/02/Restory-Business-APP-Wide_Website-1.png
GEO:36.4727525;-82.5378001
X-APPLE-STRUCTURED-LOCATION;VALUE=URI;X-ADDRESS=Christ Fellowship Church 260 Victory Lane Kingsport TN 37664 United States;X-APPLE-RADIUS=500;X-TITLE=260 Victory Lane:geo:-82.5378001,36.4727525
END:VEVENT
BEGIN:VEVENT
DTSTART;TZID=America/New_York:20260514T180000
DTEND;TZID=America/New_York:20260514T190000
DTSTAMP:20260424T213438
CREATED:20260310T125622Z
LAST-MODIFIED:20260310T125622Z
UID:10007898-1778781600-1778785200@christfellowship.me
SUMMARY:CF Littles: Creation Generation
DESCRIPTION:[vc_row type=”in_container” full_screen_row_position=”middle” column_margin=”default” column_direction=”default” column_direction_tablet=”default” column_direction_phone=”default” scene_position=”center” text_color=”dark” text_align=”left” row_border_radius=”none” row_border_radius_applies=”bg” row_position_desktop=”default” row_position_tablet=”inherit” row_position_phone=”inherit” overflow=”visible” overlay_strength=”0.3″ gradient_direction=”left_to_right” shape_divider_position=”bottom” bg_image_animation=”none”][vc_column column_padding=”no-extra-padding” column_padding_tablet=”inherit” column_padding_phone=”inherit” column_padding_position=”all” flex_gap_desktop=”10px” column_element_direction_desktop=”default” column_element_spacing=”default” desktop_text_alignment=”default” tablet_text_alignment=”default” phone_text_alignment=”default” background_color_opacity=”1″ background_hover_color_opacity=”1″ column_backdrop_filter=”none” column_shadow=”none” column_border_radius=”none” column_link_target=”_self” column_position=”default” gradient_direction=”left_to_right” overlay_strength=”0.3″ width=”1/1″ tablet_width_inherit=”default” animation_type=”default” bg_image_animation=”none” border_type=”simple” column_border_width=”none” column_border_style=”solid”][vc_column_text css=”” text_direction=”default”]CF Littles Families\, \nJoin us for Creation Generation on May 14th from 6-7 PM! \nThis month\, our theme is Under the Sea! These fun\, hands-on activities are geared for kids ages 18 months to 5 years old. Parent attendance and involvement is required\, so come ready to enjoy the fun together! \nPlease be sure to sign up using the link below. Don’t miss out on this fun evening\, we can’t wait to see you and your little ones there![/vc_column_text][/vc_column][/vc_row][vc_row type=”in_container” full_screen_row_position=”middle” column_margin=”default” column_direction=”default” column_direction_tablet=”default” column_direction_phone=”default” scene_position=”center” text_color=”dark” text_align=”left” row_border_radius=”none” row_border_radius_applies=”bg” row_position_desktop=”default” row_position_tablet=”inherit” row_position_phone=”inherit” overflow=”visible” overlay_strength=”0.3″ gradient_direction=”left_to_right” shape_divider_position=”bottom” bg_image_animation=”none”][vc_column column_padding=”no-extra-padding” column_padding_tablet=”inherit” column_padding_phone=”inherit” column_padding_position=”all” flex_gap_desktop=”10px” column_element_direction_desktop=”default” column_element_spacing=”default” desktop_text_alignment=”default” tablet_text_alignment=”default” phone_text_alignment=”default” background_color_opacity=”1″ background_hover_color_opacity=”1″ column_backdrop_filter=”none” column_shadow=”none” column_border_radius=”none” column_link_target=”_self” column_position=”default” gradient_direction=”left_to_right” overlay_strength=”0.3″ width=”1/1″ tablet_width_inherit=”default” animation_type=”default” bg_image_animation=”none” border_type=”simple” column_border_width=”none” column_border_style=”solid”]\n                \n                        Name of Parent Attending(Required)\n                            \n                            \n                                                    \n                                                    First\n                                                \n                            \n                            \n                                                    \n                                                    Last\n                                                \n                            \n                        Name of Child/Children(Required)Age of Child/Children(Required)Phone(Required)Email(Required)\n                            \n                        CAPTCHA\n          \n            \n            \n            \n            \n            \n            \n            \n            \n            \n            \n            \n            \n            \n        \n                        \n                        \n[/vc_column][/vc_row]
URL:https://christfellowship.me/event/cf-littles-creation-generation-21/
LOCATION:Christ Fellowship Church\, 260 Victory Lane\, Kingsport\, TN\, 37664\, United States
CATEGORIES:CF Littles
ATTACH;FMTTYPE=image/png:https://christfellowship.me/wp-content/uploads/2026/03/May.png
ORGANIZER;CN="Brittany Ivanich":MAILTO:bivanich@christfellowship.me
GEO:36.4727525;-82.5378001
X-APPLE-STRUCTURED-LOCATION;VALUE=URI;X-ADDRESS=Christ Fellowship Church 260 Victory Lane Kingsport TN 37664 United States;X-APPLE-RADIUS=500;X-TITLE=260 Victory Lane:geo:-82.5378001,36.4727525
END:VEVENT
END:VCALENDAR