BEGIN:VCALENDAR
VERSION:2.0
PRODID:-//Christ Fellowship - ECPv6.15.20//NONSGML v1.0//EN
CALSCALE:GREGORIAN
METHOD:PUBLISH
X-WR-CALNAME:Christ Fellowship
X-ORIGINAL-URL:https://christfellowship.me
X-WR-CALDESC:Events for Christ Fellowship
REFRESH-INTERVAL;VALUE=DURATION:PT1H
X-Robots-Tag:noindex
X-PUBLISHED-TTL:PT1H
BEGIN:VTIMEZONE
TZID:America/New_York
BEGIN:DAYLIGHT
TZOFFSETFROM:-0500
TZOFFSETTO:-0400
TZNAME:EDT
DTSTART:20220313T070000
END:DAYLIGHT
BEGIN:STANDARD
TZOFFSETFROM:-0400
TZOFFSETTO:-0500
TZNAME:EST
DTSTART:20221106T060000
END:STANDARD
BEGIN:DAYLIGHT
TZOFFSETFROM:-0500
TZOFFSETTO:-0400
TZNAME:EDT
DTSTART:20230312T070000
END:DAYLIGHT
BEGIN:STANDARD
TZOFFSETFROM:-0400
TZOFFSETTO:-0500
TZNAME:EST
DTSTART:20231105T060000
END:STANDARD
BEGIN:DAYLIGHT
TZOFFSETFROM:-0500
TZOFFSETTO:-0400
TZNAME:EDT
DTSTART:20240310T070000
END:DAYLIGHT
BEGIN:STANDARD
TZOFFSETFROM:-0400
TZOFFSETTO:-0500
TZNAME:EST
DTSTART:20241103T060000
END:STANDARD
END:VTIMEZONE
BEGIN:VEVENT
DTSTART;TZID=America/New_York:20230716T130000
DTEND;TZID=America/New_York:20230720T210000
DTSTAMP:20260424T074308
CREATED:20230216T152333Z
LAST-MODIFIED:20230216T152333Z
UID:10007471-1689512400-1689886800@christfellowship.me
SUMMARY:NTS Camp 2023 // CF Students
DESCRIPTION:NTS CAMP 2023 // CF STUDENTS\nREGISTRATION IS OPEN! \nNever The Same (NTS) Camp is an action-packed week of life change happening this summer in South Carolina from July 16-20!  We really believe summer camp can be pivotal in the life of each student as they step away from normal life and immerse themselves in a week of connection with Jesus\, new friends & community.  We believe they will not only leave with a deeper understanding of God’s unique design for their lives and how to hear His voice\, but a fire to see Him move in their lives far beyond this summer. We can not think of a better investment into the life of your CF High or CF Middle student this summer than joining us for NTS Camp! \nWho: Current 6th-12th grade students \nWhen: July 16-20 \nWhere: Southern Wesleyan University\, South Carolina \nTotal Cost: $460 which includes the NTS Camp Fee and a $75 bus fee. (Early Registration ends 5/7/23\, price will increase. See more information packet below for price increase schedule) \n**Registration: Done in 2 parts** \nPart 1 Camp: Click here for NTS website. Select to ‘register your student’\, then select Christ Fellowship and complete forms. ($150 deposit is non-refundable) \nPart 2 CF Waivers & Transportation: Scroll down and complete form below which includes waivers\, uploading insurance cards and pay the $75 transportation fee. \nFor More information on price increase dates\, packing list or sample daily itinerary check out our 2023 Packet. \nScholarships \n**All scholarship application were due by May 3rd** \nQuestions: email Laura Whitney at lwhitney@christfellowship.me 
URL:https://christfellowship.me/event/nts-camp-2023-cf-students/
LOCATION:Southern Westelyen University\, 907 Westleyen Dr.\, Central\, SC\, 29630\, United States
CATEGORIES:Grounded Middle,Grounded High
END:VEVENT
END:VCALENDAR