BEGIN:VCALENDAR
VERSION:2.0
PRODID:-//Christ Fellowship - ECPv6.15.20//NONSGML v1.0//EN
CALSCALE:GREGORIAN
METHOD:PUBLISH
X-WR-CALNAME:Christ Fellowship
X-ORIGINAL-URL:https://christfellowship.me
X-WR-CALDESC:Events for Christ Fellowship
REFRESH-INTERVAL;VALUE=DURATION:PT1H
X-Robots-Tag:noindex
X-PUBLISHED-TTL:PT1H
BEGIN:VTIMEZONE
TZID:America/New_York
BEGIN:DAYLIGHT
TZOFFSETFROM:-0500
TZOFFSETTO:-0400
TZNAME:EDT
DTSTART:20250309T070000
END:DAYLIGHT
BEGIN:STANDARD
TZOFFSETFROM:-0400
TZOFFSETTO:-0500
TZNAME:EST
DTSTART:20251102T060000
END:STANDARD
BEGIN:DAYLIGHT
TZOFFSETFROM:-0500
TZOFFSETTO:-0400
TZNAME:EDT
DTSTART:20260308T070000
END:DAYLIGHT
BEGIN:STANDARD
TZOFFSETFROM:-0400
TZOFFSETTO:-0500
TZNAME:EST
DTSTART:20261101T060000
END:STANDARD
BEGIN:DAYLIGHT
TZOFFSETFROM:-0500
TZOFFSETTO:-0400
TZNAME:EDT
DTSTART:20270314T070000
END:DAYLIGHT
BEGIN:STANDARD
TZOFFSETFROM:-0400
TZOFFSETTO:-0500
TZNAME:EST
DTSTART:20271107T060000
END:STANDARD
END:VTIMEZONE
BEGIN:VEVENT
DTSTART;TZID=America/New_York:20260221T100000
DTEND;TZID=America/New_York:20260221T110000
DTSTAMP:20260425T114349
CREATED:20260127T201305Z
LAST-MODIFIED:20260127T201305Z
UID:10007878-1771668000-1771671600@christfellowship.me
SUMMARY:Writer's Workshop /// February 2026
DESCRIPTION:[vc_row type=”in_container” full_screen_row_position=”middle” column_margin=”default” column_direction=”default” column_direction_tablet=”default” column_direction_phone=”default” scene_position=”center” text_color=”dark” text_align=”left” row_border_radius=”none” row_border_radius_applies=”bg” row_position_desktop=”default” row_position_tablet=”inherit” row_position_phone=”inherit” overflow=”visible” overlay_strength=”0.3″ gradient_direction=”left_to_right” shape_divider_position=”bottom” bg_image_animation=”none”][vc_column column_padding=”no-extra-padding” column_padding_tablet=”inherit” column_padding_phone=”inherit” column_padding_position=”all” flex_gap_desktop=”10px” column_element_direction_desktop=”default” column_element_spacing=”default” desktop_text_alignment=”default” tablet_text_alignment=”default” phone_text_alignment=”default” background_color_opacity=”1″ background_hover_color_opacity=”1″ column_backdrop_filter=”none” column_shadow=”none” column_border_radius=”none” column_link_target=”_self” column_position=”default” gradient_direction=”left_to_right” overlay_strength=”0.3″ width=”1/1″ tablet_width_inherit=”default” animation_type=”default” bg_image_animation=”none” border_type=”simple” column_border_width=”none” column_border_style=”solid”][vc_column_text css=”” text_direction=”default”]\n\n\nMark your calendars for this special presentation on Saturday\, February 21 from 10:00 to 11:00 AM at Christ Fellowship. \nAward winning local author Steven James will present The Story Cube: Rethinking Story From the Ground Up. This free one hour workshop is designed for both aspiring and experienced writers. Join us for an engaging presentation\, coffee\, and discussion. Steven will also be available to sell and sign his books at the event. \nFor centuries\, story has been understood through a linear lens such as beginning\, middle\, and end or three act structure. But what if there were another way to think about story at a more foundational level? What if story could be visualized in a way that is simple to remember and applicable across every genre? In this session\, Steven introduces a fresh approach that challenges traditional frameworks and offers practical tools for writers at any stage. \n\n\n\nSaturday\, February 21st \n10:00am-11:00am\nRoom 103\n[/vc_column_text][/vc_column][/vc_row]
URL:https://christfellowship.me/event/writers-workshop-february-2026/
LOCATION:Christ Fellowship Church\, 260 Victory Lane\, Kingsport\, TN\, 37664\, United States
CATEGORIES:Men @ CF,Women @ CF,Young Adults Ministry,Equip
ATTACH;FMTTYPE=image/png:https://christfellowship.me/wp-content/uploads/2026/01/Writers-WorkshopAPP-Wide.png
GEO:36.4727525;-82.5378001
X-APPLE-STRUCTURED-LOCATION;VALUE=URI;X-ADDRESS=Christ Fellowship Church 260 Victory Lane Kingsport TN 37664 United States;X-APPLE-RADIUS=500;X-TITLE=260 Victory Lane:geo:-82.5378001,36.4727525
END:VEVENT
END:VCALENDAR