BEGIN:VCALENDAR
VERSION:2.0
PRODID:-//Christ Fellowship - ECPv6.15.20//NONSGML v1.0//EN
CALSCALE:GREGORIAN
METHOD:PUBLISH
X-ORIGINAL-URL:https://christfellowship.me
X-WR-CALDESC:Events for Christ Fellowship
REFRESH-INTERVAL;VALUE=DURATION:PT1H
X-Robots-Tag:noindex
X-PUBLISHED-TTL:PT1H
BEGIN:VTIMEZONE
TZID:America/New_York
BEGIN:DAYLIGHT
TZOFFSETFROM:-0500
TZOFFSETTO:-0400
TZNAME:EDT
DTSTART:20220313T070000
END:DAYLIGHT
BEGIN:STANDARD
TZOFFSETFROM:-0400
TZOFFSETTO:-0500
TZNAME:EST
DTSTART:20221106T060000
END:STANDARD
BEGIN:DAYLIGHT
TZOFFSETFROM:-0500
TZOFFSETTO:-0400
TZNAME:EDT
DTSTART:20230312T070000
END:DAYLIGHT
BEGIN:STANDARD
TZOFFSETFROM:-0400
TZOFFSETTO:-0500
TZNAME:EST
DTSTART:20231105T060000
END:STANDARD
BEGIN:DAYLIGHT
TZOFFSETFROM:-0500
TZOFFSETTO:-0400
TZNAME:EDT
DTSTART:20240310T070000
END:DAYLIGHT
BEGIN:STANDARD
TZOFFSETFROM:-0400
TZOFFSETTO:-0500
TZNAME:EST
DTSTART:20241103T060000
END:STANDARD
END:VTIMEZONE
BEGIN:VEVENT
DTSTART;TZID=America/New_York:20230918T180000
DTEND;TZID=America/New_York:20230918T200000
DTSTAMP:20260425T190555
CREATED:20230517T192020Z
LAST-MODIFIED:20230517T192020Z
UID:10007495-1695060000-1695067200@christfellowship.me
SUMMARY:Primetimers Monthly Potluck
DESCRIPTION:Adults 60 and over\,  join us on Monday\, September 18th at 6:00PM at Christ Fellowship for our monthly potluck.  Bring your favorite potluck “comfort food” dish to share. No need to sign up. Partner with CF Outreach by bringing a LARGE canned food item for Kitchen of Hope. \nFor more information\, contact Stephanie Sanders at ssanders@christfellowship.me.
URL:https://christfellowship.me/event/primetimers-monthly-potluck-3/
LOCATION:Christ Fellowship Church\, 260 Victory Lane\, Kingsport\, TN\, 37664\, United States
CATEGORIES:Prime Timers
ORGANIZER;CN="Stephanie Sanders":MAILTO:ssanders@christfellowship.me
GEO:36.4727525;-82.5378001
X-APPLE-STRUCTURED-LOCATION;VALUE=URI;X-ADDRESS=Christ Fellowship Church 260 Victory Lane Kingsport TN 37664 United States;X-APPLE-RADIUS=500;X-TITLE=260 Victory Lane:geo:-82.5378001,36.4727525
END:VEVENT
END:VCALENDAR