BEGIN:VCALENDAR
VERSION:2.0
PRODID:-//Christ Fellowship - ECPv6.15.20//NONSGML v1.0//EN
CALSCALE:GREGORIAN
METHOD:PUBLISH
X-ORIGINAL-URL:https://christfellowship.me
X-WR-CALDESC:Events for Christ Fellowship
REFRESH-INTERVAL;VALUE=DURATION:PT1H
X-Robots-Tag:noindex
X-PUBLISHED-TTL:PT1H
BEGIN:VTIMEZONE
TZID:America/New_York
BEGIN:DAYLIGHT
TZOFFSETFROM:-0500
TZOFFSETTO:-0400
TZNAME:EDT
DTSTART:20210314T070000
END:DAYLIGHT
BEGIN:STANDARD
TZOFFSETFROM:-0400
TZOFFSETTO:-0500
TZNAME:EST
DTSTART:20211107T060000
END:STANDARD
BEGIN:DAYLIGHT
TZOFFSETFROM:-0500
TZOFFSETTO:-0400
TZNAME:EDT
DTSTART:20220313T070000
END:DAYLIGHT
BEGIN:STANDARD
TZOFFSETFROM:-0400
TZOFFSETTO:-0500
TZNAME:EST
DTSTART:20221106T060000
END:STANDARD
BEGIN:DAYLIGHT
TZOFFSETFROM:-0500
TZOFFSETTO:-0400
TZNAME:EDT
DTSTART:20230312T070000
END:DAYLIGHT
BEGIN:STANDARD
TZOFFSETFROM:-0400
TZOFFSETTO:-0500
TZNAME:EST
DTSTART:20231105T060000
END:STANDARD
BEGIN:DAYLIGHT
TZOFFSETFROM:-0500
TZOFFSETTO:-0400
TZNAME:EDT
DTSTART:20240310T070000
END:DAYLIGHT
BEGIN:STANDARD
TZOFFSETFROM:-0400
TZOFFSETTO:-0500
TZNAME:EST
DTSTART:20241103T060000
END:STANDARD
BEGIN:DAYLIGHT
TZOFFSETFROM:-0500
TZOFFSETTO:-0400
TZNAME:EDT
DTSTART:20250309T070000
END:DAYLIGHT
BEGIN:STANDARD
TZOFFSETFROM:-0400
TZOFFSETTO:-0500
TZNAME:EST
DTSTART:20251102T060000
END:STANDARD
BEGIN:DAYLIGHT
TZOFFSETFROM:-0500
TZOFFSETTO:-0400
TZNAME:EDT
DTSTART:20260308T070000
END:DAYLIGHT
BEGIN:STANDARD
TZOFFSETFROM:-0400
TZOFFSETTO:-0500
TZNAME:EST
DTSTART:20261101T060000
END:STANDARD
END:VTIMEZONE
BEGIN:VEVENT
DTSTART;TZID=America/New_York:20250817T143000
DTEND;TZID=America/New_York:20250817T173000
DTSTAMP:20260422T094559
CREATED:20250508T191607Z
LAST-MODIFIED:20250603T163147Z
UID:10007720-1755441000-1755451800@christfellowship.me
SUMMARY:Doe River Gorge // Family Lake Day
DESCRIPTION:[vc_row type=”in_container” full_screen_row_position=”middle” column_margin=”default” column_direction=”default” column_direction_tablet=”default” column_direction_phone=”default” scene_position=”center” text_color=”dark” text_align=”left” row_border_radius=”none” row_border_radius_applies=”bg” overflow=”visible” overlay_strength=”0.3″ gradient_direction=”left_to_right” shape_divider_position=”bottom” bg_image_animation=”none”][vc_column column_padding=”no-extra-padding” column_padding_tablet=”inherit” column_padding_phone=”inherit” column_padding_position=”all” column_element_direction_desktop=”default” column_element_spacing=”default” desktop_text_alignment=”default” tablet_text_alignment=”default” phone_text_alignment=”default” background_color_opacity=”1″ background_hover_color_opacity=”1″ column_backdrop_filter=”none” column_shadow=”none” column_border_radius=”none” column_link_target=”_self” column_position=”default” gradient_direction=”left_to_right” overlay_strength=”0.3″ width=”1/1″ tablet_width_inherit=”default” animation_type=”default” bg_image_animation=”none” border_type=”simple” column_border_width=”none” column_border_style=”solid”][vc_column_text css=”” text_direction=”default”]\nJoin us for an afternoon of family fun at Doe River Gorge!\n\nGather your family and friends and join us for an unforgettable afternoon at Doe River Gorge! Whether you’re young or just young at heart\, there’s something for everyone—from toddlers to grandparents.\nEnjoy a wide range of activities including the white sandy beach\, water basketball\, water volleyball\, water obstacle course\, log roll\, lily pads\, the blob\, triple water zipline and so much more\n\nFeel free to bring your own picnic lunch or snacks. Food and snacks will also be available for purchase for a limited time during the event.\n📅 Date: Sunday\, August 17th\n🕝 Time: 2:30 PM – 5:30 PM\n📍 Location: 220 Doe River Gorge Rd\, Hampton\, TN 37658\nCost: $10 per person or $35 per family\n(That’s over a 65% discount off the regular $25 per person rate!)\nFor a full list of activities and to get a sneak peek of what’s in store\, visit:\n👉 https://www.doerivergorge.com/dayquest/\n\nWe can’t wait to see you there for an afternoon of sun\, water\, and memories!\nEach Family must complete this waiver to attend Doe River Gorge Waiver. You may print it off and bring it with you August 17th or we will have them at check in for you to complete at Doe River the day of the event. \nSign up your family today:[/vc_column_text]\n\n                \n                        Name(Required)\n                            \n                            \n                                                    \n                                                    First\n                                                \n                            \n                            \n                                                    \n                                                    Last\n                                                \n                            \n                        Phone(Required)Email(Required)\n                            \n                        How many adults will be attending?(Required)How many children/students will be attending?(Required)Consent(Required) By checking this box I agree to the terms set forth in the Waiver below and confirms that I have read this information\, understand it\, and agree to be bound by it\, and that my signed name below constitutes my legal digital signature.CF Trip Participant Release and Indemnification Agreement \n\nIn consideration of the undersigned's application for participation in a trip or project sponsored by Christ Fellowship\, of Kingsport\, Tennessee (the “Church”) and as an inducement to the Church to organize the trip or project and permit the undersigned's participation\, it is agreed as follows: \n\nThe undersigned hereby fully and forever releases and waives and agrees not to cause to be brought any claims\, demands\, actions\, or causes of action of any possible kind and nature whatsoever that the undersigned or assigns of the undersigned might assert\, including\, without limitation\, claims for personal injury\, wrongful death\, or property damage\, whether or not absolute now or unknown\, or otherwise against the Church or any of its Board members\, officers\, employees(including\, but not limited to\, pastors)\, agents and volunteers (collectively referred to herein as the “Releasees”) by reason of\, arising out of\, or relating to the undersigned's participation in a Church trip or project. \n\nThe undersigned further agrees to indemnify\, defend and hold the Releasees harmless from damages\, including\, without limitation\, special\, incidental and consequential damages\, losses or expenses suffered\, awarded\, or paid\, directly or indirectly\, as a result of any and all claims\, causes of action\, suits\, proceedings\, demands\, judgments\, assessments\, and liabilities\, including attorney's fees incurred in litigation or otherwise\, assessed or sustained by or against the Releasees by reason of\, arising out of or relating to the undersigned's participation in a Church trip or project. \n\nThe undersigned further agrees that this Release and Indemnification Agreement (the “Agreement”) is binding upon the undersigned's heirs\, executors\, administrators\, assigns and legal representatives; that this Agreement releases all successors\, assigns and legal representatives of the Releasees; and that this Agreement is to be governed by the law of the State of Tennessee. \n\nThe undersigned further agrees that the execution of this Agreement is continuing in nature; it is the undersigned's knowing and voluntary act; the undersigned does not intend to participate in the trip or project until and unless the undersigned has had full opportunity to the undersigned's satisfaction to inspect and determine the scope of the trip or project and receive all information from the leader(s) or Church Department which bear on the undersigned's decision to participate (including the risks involved); the undersigned is under no duress or undue influence to execute this \nAgreement; and that participation in the trip or project shall be deemed\, under Tennessee law\, to be an express assumption by the undersigned of any and all risks which are\, or might be\, associated with the trip or project\, including any negligence on the part of any and all Releasees. \nThe undersigned grants full permission to the Church to use any photographs\, videotapes\, motion pictures\, recordings\, or any other records or documents of the trip or project and to do so without notice or compensation to the undersigned. \n\nThe undersigned assumes responsibility for full payment of the published and announced cost of the trip or project\, agrees to pay any outstanding balance upon request by the Church; and agrees that any and all costs incurred by the undersigned during the trip or project\, including\, without limitation\, costs due to health problems\, emergencies and death\, are the responsibility of the undersigned or the estate of the undersigned. \n\nThe undersigned certifies that the information provided in the undersigned's application for participation in the Church trip or project is true\, complete and correct and acknowledges that the undersigned has read and understands this Agreement; that the undersigned has not relied in signing this agreement on any statement\, oral or otherwise\, by the Church; and that it is the undersigned's intention with this Agreement to make a complete\, general and unconditional release of any and all claims whatsoever against the Releases as set forth above. \n\nI acknowledge that I am voluntarily electing to allow my family and all whom I bring\, which may include minors to participate in such activities for their benefit. Knowing of the risks\, I hereby EXPRESSLY AGREE to HOLD HARMLESS and INDEMNIFY Christ Fellowship for any claims that may be brought by my minor child or family members or member in my party.Signature(Required)Doe River Family Lake Day Cost Options:This includes all water activities\, ziplining into the lake\, the blob\, beach and more.\n			\n					\n					$35 Family Day Pass (Immediate Family only please)\n			Single Day Pass $10 Per Person Quantity\n					\n					\n						Price:\n						$10.00\n					\n					\n					 Quantity \n				Discount Code Total\n							\n						Credit Card(Required)Card Details\n					\n					Cardholder Name\n				\n			\n          \n            \n            \n            \n            \n            \n            \n            \n            \n            \n            \n            \n            \n            \n        \n                        \n                        \n[/vc_column][/vc_row][vc_row type=”in_container” full_screen_row_position=”middle” column_margin=”default” column_direction=”default” column_direction_tablet=”default” column_direction_phone=”default” scene_position=”center” text_color=”dark” text_align=”left” row_border_radius=”none” row_border_radius_applies=”bg” overflow=”visible” overlay_strength=”0.3″ gradient_direction=”left_to_right” shape_divider_position=”bottom” bg_image_animation=”none”][vc_column column_padding=”no-extra-padding” column_padding_tablet=”inherit” column_padding_phone=”inherit” column_padding_position=”all” column_element_direction_desktop=”default” column_element_spacing=”default” desktop_text_alignment=”default” tablet_text_alignment=”default” phone_text_alignment=”default” background_color_opacity=”1″ background_hover_color_opacity=”1″ column_backdrop_filter=”none” column_shadow=”none” column_border_radius=”none” column_link_target=”_self” column_position=”default” gradient_direction=”left_to_right” overlay_strength=”0.3″ width=”1/1″ tablet_width_inherit=”default” animation_type=”default” bg_image_animation=”none” border_type=”simple” column_border_width=”none” column_border_style=”solid”]\n                \n                        Name(Required)\n                            \n                            \n                                                    \n                                                    First\n                                                \n                            \n                            \n                                                    \n                                                    Last\n                                                \n                            \n                        Phone(Required)Email(Required)\n                            \n                        How many adults will be attending?(Required)How many children/students will be attending?(Required)Consent(Required) By checking this box I agree to the terms set forth in the Waiver below and confirms that I have read this information\, understand it\, and agree to be bound by it\, and that my signed name below constitutes my legal digital signature.CF Trip Participant Release and Indemnification Agreement \n\nIn consideration of the undersigned's application for participation in a trip or project sponsored by Christ Fellowship\, of Kingsport\, Tennessee (the “Church”) and as an inducement to the Church to organize the trip or project and permit the undersigned's participation\, it is agreed as follows: \n\nThe undersigned hereby fully and forever releases and waives and agrees not to cause to be brought any claims\, demands\, actions\, or causes of action of any possible kind and nature whatsoever that the undersigned or assigns of the undersigned might assert\, including\, without limitation\, claims for personal injury\, wrongful death\, or property damage\, whether or not absolute now or unknown\, or otherwise against the Church or any of its Board members\, officers\, employees(including\, but not limited to\, pastors)\, agents and volunteers (collectively referred to herein as the “Releasees”) by reason of\, arising out of\, or relating to the undersigned's participation in a Church trip or project. \n\nThe undersigned further agrees to indemnify\, defend and hold the Releasees harmless from damages\, including\, without limitation\, special\, incidental and consequential damages\, losses or expenses suffered\, awarded\, or paid\, directly or indirectly\, as a result of any and all claims\, causes of action\, suits\, proceedings\, demands\, judgments\, assessments\, and liabilities\, including attorney's fees incurred in litigation or otherwise\, assessed or sustained by or against the Releasees by reason of\, arising out of or relating to the undersigned's participation in a Church trip or project. \n\nThe undersigned further agrees that this Release and Indemnification Agreement (the “Agreement”) is binding upon the undersigned's heirs\, executors\, administrators\, assigns and legal representatives; that this Agreement releases all successors\, assigns and legal representatives of the Releasees; and that this Agreement is to be governed by the law of the State of Tennessee. \n\nThe undersigned further agrees that the execution of this Agreement is continuing in nature; it is the undersigned's knowing and voluntary act; the undersigned does not intend to participate in the trip or project until and unless the undersigned has had full opportunity to the undersigned's satisfaction to inspect and determine the scope of the trip or project and receive all information from the leader(s) or Church Department which bear on the undersigned's decision to participate (including the risks involved); the undersigned is under no duress or undue influence to execute this \nAgreement; and that participation in the trip or project shall be deemed\, under Tennessee law\, to be an express assumption by the undersigned of any and all risks which are\, or might be\, associated with the trip or project\, including any negligence on the part of any and all Releasees. \nThe undersigned grants full permission to the Church to use any photographs\, videotapes\, motion pictures\, recordings\, or any other records or documents of the trip or project and to do so without notice or compensation to the undersigned. \n\nThe undersigned assumes responsibility for full payment of the published and announced cost of the trip or project\, agrees to pay any outstanding balance upon request by the Church; and agrees that any and all costs incurred by the undersigned during the trip or project\, including\, without limitation\, costs due to health problems\, emergencies and death\, are the responsibility of the undersigned or the estate of the undersigned. \n\nThe undersigned certifies that the information provided in the undersigned's application for participation in the Church trip or project is true\, complete and correct and acknowledges that the undersigned has read and understands this Agreement; that the undersigned has not relied in signing this agreement on any statement\, oral or otherwise\, by the Church; and that it is the undersigned's intention with this Agreement to make a complete\, general and unconditional release of any and all claims whatsoever against the Releases as set forth above. \n\nI acknowledge that I am voluntarily electing to allow my family and all whom I bring\, which may include minors to participate in such activities for their benefit. Knowing of the risks\, I hereby EXPRESSLY AGREE to HOLD HARMLESS and INDEMNIFY Christ Fellowship for any claims that may be brought by my minor child or family members or member in my party.Signature(Required)Doe River Family Lake Day Cost Options:This includes all water activities\, ziplining into the lake\, the blob\, beach and more.\n			\n					\n					$35 Family Day Pass (Immediate Family only please)\n			Single Day Pass $10 Per Person Quantity\n					\n					\n						Price:\n						$10.00\n					\n					\n					 Quantity \n				Discount Code Total\n							\n						Credit Card(Required)Card Details\n					\n					Cardholder Name\n				\n			\n          \n            \n            \n            \n            \n            \n            \n            \n            \n            \n            \n            \n            \n            \n        \n                        \n                        \n[/vc_column][/vc_row]
URL:https://christfellowship.me/event/doe-river-gorge-family-lake-day-2/
LOCATION:Doe River Gorge\, 220 Doe River Gorge Rd.\, Hampton\, TN\, 37658\, United States
CATEGORIES:Promise Kids,Studio 252,Grounded Middle,Grounded High
ATTACH;FMTTYPE=image/png:https://christfellowship.me/wp-content/uploads/2025/05/APP-Wide-43.png
END:VEVENT
BEGIN:VEVENT
DTSTART;TZID=America/New_York:20230813T143000
DTEND;TZID=America/New_York:20230813T173000
DTSTAMP:20260422T094559
CREATED:20220713T195837Z
LAST-MODIFIED:20250508T191859Z
UID:10007432-1691937000-1691947800@christfellowship.me
SUMMARY:Doe River Gorge // Family Lake Day
DESCRIPTION:Grab your family and friends and join us for an afternoon at Doe River Gorge. This is fun filled day that has activities for all ages from littles to grandparents\, such as the white sandy beach\, water basketball\, water volleyball\, water obstacle course\, log roll\, lily pads\, the blob\, triple water zipline and so much more. Feel free to pack a picnic lunch or snacks. There will be an opportunity to purchase food or snack for a limited time. \nWhen: August 13th \nTime: 2:30pm-5:30pm \nWhere: 220 Doe River Gorge rd. Hampton TN 37658 \nCost Options: $35 per family (Immediate Family only please) or $10 per person. \n**This is at least a 65% discount per family from regular pricing of $25 per person** \nFor more information about Doe River Gorge and the activities check out their website: https://www.doerivergorge.com/dayquest/ \nEach Family must complete this waiver to attend Doe River Gorge Waiver. You may print it off and bring it with you August 13th or I will have them at check in for you to complete at Doe River the day of the event. \nSign up your family today: \n 
URL:https://christfellowship.me/event/doe-river-gorge-family-lake-day/
LOCATION:Doe River Gorge\, 220 Doe River Gorge Rd.\, Hampton\, TN\, 37658\, United States
CATEGORIES:Promise Kids,Studio 252,Grounded Middle,Grounded High
END:VEVENT
BEGIN:VEVENT
DTSTART;TZID=America/New_York:20220816T180000
DTEND;TZID=America/New_York:20220816T200000
DTSTAMP:20260422T094559
CREATED:20220720T173221Z
LAST-MODIFIED:20220720T173221Z
UID:10007433-1660672800-1660680000@christfellowship.me
SUMMARY:Family Ministry Training
DESCRIPTION:As we jump into the new school year\, we want to gather all our volunteers from every area of Family Ministries to equip & empower you to be all God designed you to be! We’re so expectant for what God is going to do in the lives of students\, parents & families this year and we believe that happens best when we are all focused on the same mission in community together.\n\nSo join us on August 16th for a night of prayer\, equipping and empowering\, as we head into the 2022-2023 school year. Come be reminded why we do what we do with the Next generation & for us to say thank you for all you do. There will be one main session with every volunteer and then breakouts for specific ministries. Dinner and childcare is provided.\n\nThis night is vital for you to be set up for success this year! See you there!
URL:https://christfellowship.me/event/family-ministry-training/
LOCATION:Christ Fellowship Church\, 260 Victory Lane\, Kingsport\, TN\, 37664\, United States
CATEGORIES:Promise Kids,Studio 252,Grounded Middle,Grounded High
GEO:36.4727525;-82.5378001
X-APPLE-STRUCTURED-LOCATION;VALUE=URI;X-ADDRESS=Christ Fellowship Church 260 Victory Lane Kingsport TN 37664 United States;X-APPLE-RADIUS=500;X-TITLE=260 Victory Lane:geo:-82.5378001,36.4727525
END:VEVENT
END:VCALENDAR