BEGIN:VCALENDAR
VERSION:2.0
PRODID:-//Christ Fellowship - ECPv6.15.18//NONSGML v1.0//EN
CALSCALE:GREGORIAN
METHOD:PUBLISH
X-ORIGINAL-URL:https://christfellowship.me
X-WR-CALDESC:Events for Christ Fellowship
REFRESH-INTERVAL;VALUE=DURATION:PT1H
X-Robots-Tag:noindex
X-PUBLISHED-TTL:PT1H
BEGIN:VTIMEZONE
TZID:America/New_York
BEGIN:DAYLIGHT
TZOFFSETFROM:-0500
TZOFFSETTO:-0400
TZNAME:EDT
DTSTART:20180311T070000
END:DAYLIGHT
BEGIN:STANDARD
TZOFFSETFROM:-0400
TZOFFSETTO:-0500
TZNAME:EST
DTSTART:20181104T060000
END:STANDARD
BEGIN:DAYLIGHT
TZOFFSETFROM:-0500
TZOFFSETTO:-0400
TZNAME:EDT
DTSTART:20190310T070000
END:DAYLIGHT
BEGIN:STANDARD
TZOFFSETFROM:-0400
TZOFFSETTO:-0500
TZNAME:EST
DTSTART:20191103T060000
END:STANDARD
BEGIN:DAYLIGHT
TZOFFSETFROM:-0500
TZOFFSETTO:-0400
TZNAME:EDT
DTSTART:20200308T070000
END:DAYLIGHT
BEGIN:STANDARD
TZOFFSETFROM:-0400
TZOFFSETTO:-0500
TZNAME:EST
DTSTART:20201101T060000
END:STANDARD
END:VTIMEZONE
BEGIN:VEVENT
DTSTART;TZID=America/New_York:20190814T183000
DTEND;TZID=America/New_York:20190814T203000
DTSTAMP:20260419T084528
CREATED:20190508T190141Z
LAST-MODIFIED:20190508T190141Z
UID:10007193-1565807400-1565814600@christfellowship.me
SUMMARY:Grounded High School Youth Service
DESCRIPTION:Join us every Wednesday night from 6:30-8:30p! This is a great time to connect with other high school students in an environment created just for you. Follow @grounded_high on Instagram for all announcements and updates.
URL:https://christfellowship.me/event/grounded-high-school-youth-service/2019-08-14/
LOCATION:260 Victory Lane\, Kingsport\, TN\, 37664\, United States
CATEGORIES:Grounded High
END:VEVENT
BEGIN:VEVENT
DTSTART;TZID=America/New_York:20190816T080000
DTEND;TZID=America/New_York:20190823T220000
DTSTAMP:20260419T084528
CREATED:20190815T124731Z
LAST-MODIFIED:20190815T124731Z
UID:10007220-1565942400-1566597600@christfellowship.me
SUMMARY:Engage Ministry: Mentoring Program Sign Up
DESCRIPTION:Have you ever been a mentor or been mentored? Does walking in the life of a child to show the love of Jesus\, influence in a positive direction\, and offer an opportunity to be all God designed for them to be pull on your heart strings? If you answer YES then please apply now for our mentoring ministry program. We would love to have you. APPLY HERE.
URL:https://christfellowship.me/event/mentoring-sign-up/
LOCATION:260 Victory Lane\, Kingsport\, TN\, 37664\, United States
CATEGORIES:Outreach
END:VEVENT
END:VCALENDAR