BEGIN:VCALENDAR
VERSION:2.0
PRODID:-//Christ Fellowship - ECPv6.15.18//NONSGML v1.0//EN
CALSCALE:GREGORIAN
METHOD:PUBLISH
X-WR-CALNAME:Christ Fellowship
X-ORIGINAL-URL:https://christfellowship.me
X-WR-CALDESC:Events for Christ Fellowship
REFRESH-INTERVAL;VALUE=DURATION:PT1H
X-Robots-Tag:noindex
X-PUBLISHED-TTL:PT1H
BEGIN:VTIMEZONE
TZID:America/New_York
BEGIN:DAYLIGHT
TZOFFSETFROM:-0500
TZOFFSETTO:-0400
TZNAME:EDT
DTSTART:20190310T070000
END:DAYLIGHT
BEGIN:STANDARD
TZOFFSETFROM:-0400
TZOFFSETTO:-0500
TZNAME:EST
DTSTART:20191103T060000
END:STANDARD
BEGIN:DAYLIGHT
TZOFFSETFROM:-0500
TZOFFSETTO:-0400
TZNAME:EDT
DTSTART:20200308T070000
END:DAYLIGHT
BEGIN:STANDARD
TZOFFSETFROM:-0400
TZOFFSETTO:-0500
TZNAME:EST
DTSTART:20201101T060000
END:STANDARD
BEGIN:DAYLIGHT
TZOFFSETFROM:-0500
TZOFFSETTO:-0400
TZNAME:EDT
DTSTART:20210314T070000
END:DAYLIGHT
BEGIN:STANDARD
TZOFFSETFROM:-0400
TZOFFSETTO:-0500
TZNAME:EST
DTSTART:20211107T060000
END:STANDARD
END:VTIMEZONE
BEGIN:VEVENT
DTSTART;TZID=America/New_York:20200416T190000
DTEND;TZID=America/New_York:20200416T190000
DTSTAMP:20260419T191436
CREATED:20200330T204620Z
LAST-MODIFIED:20200330T204620Z
UID:10007256-1587063600-1587063600@christfellowship.me
SUMMARY:Enneagram and You - April 2020
DESCRIPTION:***THIS CLASS IS NOW FULL. BE ON THE LOOKOUT FOR UPCOMING DATES.*** \nDo you ever wonder why you think and feel the way you do?  Or why others don’t see things your way?  We know it’s because as individuals we are uniquely created as God’s masterpieces.  We can spend a lifetime growing into our true selves.  The Enneagram is a model of nine interconnected personality types.  In this class\, we will discover your type\, explore the inner-workings of each type\, and use foundational knowledge about the Enneagram in your transformation to become your healthiest and truest self in Christ. \nWe will: \n\nLook at an overview of the Enneagram and how to use it in everyday life\nExplore the truth of the Gospel and how to align with Jesus\nCapitalize on your Type’s strengths and overcome weaknesses.\nExpand your comfort zone.\nDevelop empowering habits and practices\n\nFour weeks beginning April 16th at 7:00PM; NO COST \n*This class will be conducted through Zoom. All you need to participate is a computer\, tablet\, or cell phone. \n 
URL:https://christfellowship.me/event/enneagram-april-2020/
LOCATION:260 Victory Lane\, Kingsport\, TN\, 37664\, United States
CATEGORIES:Equip
ORGANIZER;CN="Kim Wheeler":MAILTO:kwheeler@christfellowship.me
END:VEVENT
END:VCALENDAR