BEGIN:VCALENDAR
VERSION:2.0
PRODID:-//Christ Fellowship - ECPv6.15.18//NONSGML v1.0//EN
CALSCALE:GREGORIAN
METHOD:PUBLISH
X-ORIGINAL-URL:https://christfellowship.me
X-WR-CALDESC:Events for Christ Fellowship
REFRESH-INTERVAL;VALUE=DURATION:PT1H
X-Robots-Tag:noindex
X-PUBLISHED-TTL:PT1H
BEGIN:VTIMEZONE
TZID:America/New_York
BEGIN:DAYLIGHT
TZOFFSETFROM:-0500
TZOFFSETTO:-0400
TZNAME:EDT
DTSTART:20230312T070000
END:DAYLIGHT
BEGIN:STANDARD
TZOFFSETFROM:-0400
TZOFFSETTO:-0500
TZNAME:EST
DTSTART:20231105T060000
END:STANDARD
BEGIN:DAYLIGHT
TZOFFSETFROM:-0500
TZOFFSETTO:-0400
TZNAME:EDT
DTSTART:20240310T070000
END:DAYLIGHT
BEGIN:STANDARD
TZOFFSETFROM:-0400
TZOFFSETTO:-0500
TZNAME:EST
DTSTART:20241103T060000
END:STANDARD
BEGIN:DAYLIGHT
TZOFFSETFROM:-0500
TZOFFSETTO:-0400
TZNAME:EDT
DTSTART:20250309T070000
END:DAYLIGHT
BEGIN:STANDARD
TZOFFSETFROM:-0400
TZOFFSETTO:-0500
TZNAME:EST
DTSTART:20251102T060000
END:STANDARD
END:VTIMEZONE
BEGIN:VEVENT
DTSTART;TZID=America/New_York:20240310T104500
DTEND;TZID=America/New_York:20240310T120000
DTSTAMP:20260419T233024
CREATED:20240215T130240Z
LAST-MODIFIED:20240215T130240Z
UID:10007575-1710067500-1710072000@christfellowship.me
SUMMARY:Intro to CF Tour - March
DESCRIPTION:Are you interested in delving a little deeper into who we are and what CF is all about? Introduction to Christ Fellowship (Intro to CF) is an informal gathering where you can find out more about our church.  We will discuss our vision\, beliefs\, and programs\, as well as opportunities for you to take part.  You will meet several leaders and hear about the heart of ministry at CF\, our community\, and the world. \nIntro to CF takes place on the second Sunday of each month during the second service at 10:45AM. \n\n\n                \n                        InstagramThis field is for validation purposes and should be left unchanged.Name*\n                            \n                            \n                                                    \n                                                    First\n                                                \n                            \n                            \n                                                    \n                                                    Last\n                                                \n                            \n                        Email*\n                            \n                        Phone Number*Do you have any physical conditions that would keep you from navigating stairs?\n			\n				\n				Yes\n			\n			\n				\n				No\n			Number attending\, including yourself:*Please list the names of adults attending with you\, if any.CAPTCHA
URL:https://christfellowship.me/event/intro-to-cf-tour-march/
LOCATION:Christ Fellowship Church\, 260 Victory Lane\, Kingsport\, TN\, 37664\, United States
CATEGORIES:Intro
GEO:36.4727525;-82.5378001
X-APPLE-STRUCTURED-LOCATION;VALUE=URI;X-ADDRESS=Christ Fellowship Church 260 Victory Lane Kingsport TN 37664 United States;X-APPLE-RADIUS=500;X-TITLE=260 Victory Lane:geo:-82.5378001,36.4727525
END:VEVENT
BEGIN:VEVENT
DTSTART;TZID=America/New_York:20240311T130000
DTEND;TZID=America/New_York:20240311T143000
DTSTAMP:20260419T233024
CREATED:20240212T194843Z
LAST-MODIFIED:20240212T194843Z
UID:10007574-1710162000-1710167400@christfellowship.me
SUMMARY:iKNOW - Daytime - March 2024
DESCRIPTION:When we become believers and step into the Kingdom\, we inherit a rich list of identities. Among other things we are called “masterpieces”\, “more than conquerors”\, and “coheirs with Jesus”. Then in God’s abundant style\, He gives us a Kingdom identity – a name that empowers us as we bring the Kingdom to earth. This three-day workshop will take us through a time of prayer to hear what God says about who we are. Learn to lay down false beliefs and walk in your true identity. Sign up through the form below! \nMaterials Fee: $10.00\nMondays\, March 11th\, 18th and 25th\n1:00pm – 2:30pm
URL:https://christfellowship.me/event/iknow-daytime-march-2024/
LOCATION:Christ Fellowship Church\, 260 Victory Lane\, Kingsport\, TN\, 37664\, United States
CATEGORIES:Equip
GEO:36.4727525;-82.5378001
X-APPLE-STRUCTURED-LOCATION;VALUE=URI;X-ADDRESS=Christ Fellowship Church 260 Victory Lane Kingsport TN 37664 United States;X-APPLE-RADIUS=500;X-TITLE=260 Victory Lane:geo:-82.5378001,36.4727525
END:VEVENT
BEGIN:VEVENT
DTSTART;TZID=America/New_York:20240311T183000
DTEND;TZID=America/New_York:20240311T200000
DTSTAMP:20260419T233024
CREATED:20240103T150439Z
LAST-MODIFIED:20240103T150439Z
UID:10007561-1710181800-1710187200@christfellowship.me
SUMMARY:iKNOW - March 2024
DESCRIPTION:When we become believers and step into the Kingdom\, we inherit a rich list of identities. Among other things we are called “masterpieces”\, “more than conquerors”\, and “coheirs with Jesus”. Then in God’s abundant style\, He gives us a Kingdom identity – a name that empowers us as we bring the Kingdom to earth. This three-day workshop will take us through a time of prayer to hear what God says about who we are. Learn to lay down false beliefs and walk in your true identity. Sign up through the form below! \nMaterials Fee: $10.00\nChildcare Fee: $5.00\nMondays\, March 11th\, 18th and 25th\n6:30pm – 8:00pm \n\n                \n                        LinkedInThis field is for validation purposes and should be left unchanged.Name*\n                            \n                            \n                                                    \n                                                    First\n                                                \n                            \n                            \n                                                    \n                                                    Last\n                                                \n                            \n                        Phone*Email*\n                            \n                        Are You Over the Age of 15?*\n			\n				\n				Yes\n			\n			\n				\n				No\n			Do You Need Childcare?*\n			\n				\n				Yes\n			\n			\n				\n				No\n			What Are the Names and Ages of Your Children?*Childcare Fee: ($5.00 per child / per week) Quantity*\n					\n					\n						Price:\n						$15.00\n					\n					\n					 Quantity \n				Material Fees for iKnow*\n					\n					\n						Price:\n						\n					\n					\n				Coupon Total\n							$0.00\n							\n						Credit CardCard Details\n					\n					Cardholder Name
URL:https://christfellowship.me/event/iknow-march-2024/
LOCATION:Christ Fellowship Church\, 260 Victory Lane\, Kingsport\, TN\, 37664\, United States
CATEGORIES:Equip
GEO:36.4727525;-82.5378001
X-APPLE-STRUCTURED-LOCATION;VALUE=URI;X-ADDRESS=Christ Fellowship Church 260 Victory Lane Kingsport TN 37664 United States;X-APPLE-RADIUS=500;X-TITLE=260 Victory Lane:geo:-82.5378001,36.4727525
END:VEVENT
END:VCALENDAR